BEGIN:VCALENDAR
VERSION:2.0
PRODID:icalendar-ruby
CALSCALE:GREGORIAN
METHOD:PUBLISH
X-WR-CALNAME:Events with Duet
BEGIN:VTIMEZONE
TZID:America/Los_Angeles
BEGIN:DAYLIGHT
DTSTART:20200308T030000
TZOFFSETFROM:-0800
TZOFFSETTO:-0700
RRULE:FREQ=YEARLY;BYDAY=2SU;BYMONTH=3
TZNAME:PDT
END:DAYLIGHT
BEGIN:STANDARD
DTSTART:20201101T010000
TZOFFSETFROM:-0700
TZOFFSETTO:-0800
RRULE:FREQ=YEARLY;BYDAY=1SU;BYMONTH=11
TZNAME:PST
END:STANDARD
END:VTIMEZONE
BEGIN:VEVENT
DTSTAMP:20260422T140528Z
UID:745eddfc-8b0f-4fb8-be82-bc2533c07e68
DTSTART:20200425T100000
DTEND:20200425T103000
DESCRIPTION:You've been invited to an event by Duet!\n\n Register below\, m
 ark your calendar\, bring your questions\, and tune-in as we discuss how t
 he real estate industry will adapt and evolve after COVID.
LOCATION:
SUMMARY:WEBINAR | Buying a New Home During/After COVID
END:VEVENT
END:VCALENDAR
