BEGIN:VCALENDAR
VERSION:2.0
PRODID:icalendar-ruby
CALSCALE:GREGORIAN
METHOD:PUBLISH
X-WR-CALNAME:Events with The Hive at Willoughby Town Centre
BEGIN:VTIMEZONE
TZID:America/Los_Angeles
BEGIN:DAYLIGHT
DTSTART:20240310T030000
TZOFFSETFROM:-0800
TZOFFSETTO:-0700
RRULE:FREQ=YEARLY;BYDAY=2SU;BYMONTH=3
TZNAME:PDT
END:DAYLIGHT
BEGIN:STANDARD
DTSTART:20241103T010000
TZOFFSETFROM:-0700
TZOFFSETTO:-0800
RRULE:FREQ=YEARLY;BYDAY=1SU;BYMONTH=11
TZNAME:PST
END:STANDARD
END:VTIMEZONE
BEGIN:VEVENT
DTSTAMP:20260420T181108Z
UID:b7976777-457d-4197-a443-d4e8be06d07d
DTSTART:20240622T120000
DTEND:20240622T140000
DESCRIPTION:You've been invited to an event by The Hive at Willoughby Town 
 Centre!\n\nGet an exclusive first look at The Hive 2 and explore the innov
 ative Apcon Experience Centre\, including our state-of-the-art AR technolo
 gy.
LOCATION:7920 206 St #105\, Langley\, BC\, Canada
SUMMARY:The Hive 2 Final Release and Apcon Experience Centre Unveiling
END:VEVENT
END:VCALENDAR
